BEGIN:VCALENDAR
VERSION:2.0
PRODID:-//CPSV//NONSGML kigkonsult.se iCalcreator 2.30.10//
CALSCALE:GREGORIAN
METHOD:PUBLISH
UID:0118ce4a-521b-4933-94b8-a9154d9345cb
X-WR-CALNAME:iCagenda
X-WR-CALDESC:Event Management Extension for Joomla!
X-WR-RELCALID:3E26604A-50F4-4449-8B3E-E4F4932D05B5
X-WR-TIMEZONE:UTC
BEGIN:VTIMEZONE
TZID:UTC
END:VTIMEZONE
BEGIN:VEVENT
UID:d964e3dc-193f-47e3-9e46-298134ada7d8
DTSTAMP:20260421T174912Z
CATEGORIES:Judo
CLASS:PUBLIC
DESCRIPTION;ALTREP="CID:<FFFF__=0ABBE548DFE235B58f9e8a93d@coffeebean.com>":
 Internationaler Tuzla-Cup 2024\, u15\, u18\, M\, F\, ü30\, ü45\nTeilnehmer
 : Kadersportler
DTSTART:20240601T173200Z
DTEND:20240602T173200Z
GEO:+52.543056;+13.590718
LOCATION:3. Gymnasium von Hellersdorf (Sartre-Gymnasium) Kyritzer Str. 103\
 , 12629 Berlin
ORGANIZER:
SEQUENCE:1
SUMMARY:Judo - 27. INTERNATIONALER TUZLA CUP 2024
TRANSP:OPAQUE
URL:https://www.cpsv.de/component/icagenda/89-judo-27-internationaler-tuzla
 -cup-2024.html?Itemid=101
END:VEVENT
END:VCALENDAR
