BEGIN:VCALENDAR
VERSION:2.0
PRODID:-//CPSV//NONSGML kigkonsult.se iCalcreator 2.30.10//
CALSCALE:GREGORIAN
METHOD:PUBLISH
UID:beb836eb-71a6-4260-8a18-e63ed292db42
X-WR-CALNAME:iCagenda
X-WR-CALDESC:Event Management Extension for Joomla!
X-WR-RELCALID:3E26604A-50F4-4449-8B3E-E4F4932D05B5
X-WR-TIMEZONE:UTC
BEGIN:VTIMEZONE
TZID:UTC
END:VTIMEZONE
BEGIN:VEVENT
UID:4a40763c-3ef0-4907-836d-1029f67d63c4
DTSTAMP:20260421T145147Z
CATEGORIES:Judo
CLASS:PUBLIC
DESCRIPTION;ALTREP="CID:<FFFF__=0ABBE548DFE235B58f9e8a93d@coffeebean.com>":
 Wisentpokal 2024 der Stadt Schleiz für u11\, u13 und u15
DTSTART:20240427T113600Z
DTEND:20240427T113600Z
GEO:+50.574036;+11.804395
LOCATION:Böttgerturnhalle Schleiz\, Böttgerstraße\, 07907 Schleiz
ORGANIZER:
SEQUENCE:1
SUMMARY:Judo - Wisentpokal Schleiz 2024
TRANSP:OPAQUE
URL:https://www.cpsv.de/component/icagenda/90-judo-wisentpokal-schleiz-2024
 /2024-04-27-11-36.html?Itemid=101
END:VEVENT
END:VCALENDAR
