BEGIN:VCALENDAR
VERSION:2.0
PRODID:-//CPSV//NONSGML kigkonsult.se iCalcreator 2.30.10//
CALSCALE:GREGORIAN
METHOD:PUBLISH
UID:b6e0737c-bf98-4dba-8763-5b4fd3a7dd6f
X-WR-CALNAME:iCagenda
X-WR-CALDESC:Event Management Extension for Joomla!
X-WR-RELCALID:3E26604A-50F4-4449-8B3E-E4F4932D05B5
X-WR-TIMEZONE:UTC
BEGIN:VTIMEZONE
TZID:UTC
END:VTIMEZONE
BEGIN:VEVENT
UID:e64f8bc8-8446-4281-8c84-b0694a6f18e2
DTSTAMP:20260421T161030Z
CATEGORIES:Judo
CLASS:PUBLIC
DESCRIPTION;ALTREP="CID:<FFFF__=0ABBE548DFE235B58f9e8a93d@coffeebean.com>":
 Landeseinzelmeisterschaft 2024 der u13\, Teilnahme laut Qualifikation
DTSTART:20240504T114300Z
DTEND:20240504T114300Z
GEO:+50.528603;+12.406469
LOCATION:Göltzschtalhalle\, Hüllebrandweg 1\, (vorher Schillerstr. 4)\, 082
 28 Rodewisch
ORGANIZER:
SEQUENCE:1
SUMMARY:Judo - Landeseinzelmeisterschaft 2024 der u13
TRANSP:OPAQUE
URL:https://www.cpsv.de/component/icagenda/91-judo-landeseinzelmeisterschaf
 t-2024-der-u13/2024-05-04-11-43.html?Itemid=101
END:VEVENT
END:VCALENDAR
